BEGIN:VCALENDAR
VERSION:2.0
PRODID:-//wp-events-plugin.com//7.2.3.1//EN
BEGIN:VEVENT
UID:8@trachtenkapelle-glottertal.de
DTSTART:20220805T200000Z
DTEND:20220805T211500Z
DTSTAMP:20220706T173506Z
URL:https://trachtenkapelle-glottertal.de/events/abendkonzert-2/
SUMMARY:Abendkonzert
DESCRIPTION:
CATEGORIES:Glottertäler Musikanten,Trachtengruppe
LOCATION:Musikpavillon an der Eichberghalle\, Rathausweg 16\, Glottertal\, 
 Deutschland
X-APPLE-STRUCTURED-LOCATION;VALUE=URI;X-ADDRESS=Rathausweg 16\, Glottertal\
 , Deutschland;X-APPLE-RADIUS=100;X-TITLE=Musikpavillon an der Eichberghall
 e:geo:0,0
END:VEVENT
END:VCALENDAR