BEGIN:VCALENDAR
VERSION:2.0
PRODID:-//wp-events-plugin.com//7.2.3.1//EN
BEGIN:VEVENT
UID:60@trachtenkapelle-glottertal.de
DTSTART:20230623T180000Z
DTEND:20230623T193000Z
DTSTAMP:20230530T211103Z
URL:https://trachtenkapelle-glottertal.de/events/abendkonzert-3/
SUMMARY:Abendkonzert
DESCRIPTION:Abendkonzert mit den Glottertäler Musikanten und der Trachteng
 ruppe  Musikpavillon an der Eichberghalle
CATEGORIES:Glottertäler Musikanten,Trachtengruppe
LOCATION:Musikpavillon an der Eichberghalle\, Rathausweg 16\, Glottertal\, 
 Deutschland
X-APPLE-STRUCTURED-LOCATION;VALUE=URI;X-ADDRESS=Rathausweg 16\, Glottertal\
 , Deutschland;X-APPLE-RADIUS=100;X-TITLE=Musikpavillon an der Eichberghall
 e:geo:0,0
END:VEVENT
END:VCALENDAR