BEGIN:VCALENDAR
VERSION:2.0
PRODID:-//wp-events-plugin.com//7.2.3.1//EN
BEGIN:VEVENT
UID:61@trachtenkapelle-glottertal.de
DTSTART:20230715T180000Z
DTEND:20230715T193000Z
DTSTAMP:20230713T210250Z
URL:https://trachtenkapelle-glottertal.de/events/abendkonzert-4/
SUMMARY:Abendkonzert auf der "Elmi"
DESCRIPTION:"Der Berg ruft"\, Unterhaltung mit den Glottertäler Musikanten
  auf der "Elmi"\, Veranstaltung des Fasnachtswagens Glottertal
CATEGORIES:Glottertäler Musikanten
END:VEVENT
END:VCALENDAR