BEGIN:VCALENDAR
VERSION:2.0
PRODID:-//wp-events-plugin.com//7.2.3.1//EN
BEGIN:VEVENT
UID:6@trachtenkapelle-glottertal.de
DTSTART:20220720T200000Z
DTEND:20220720T210000Z
DTSTAMP:20220614T130127Z
URL:https://trachtenkapelle-glottertal.de/events/abendkonzert-mit-der-blae
 serjugend/
SUMMARY:Abendkonzert mit der Bläserjugend
DESCRIPTION:
CATEGORIES:Bläserjugend
LOCATION:Musikpavillon an der Eichberghalle\, Rathausweg 16\, Glottertal\, 
 Deutschland
X-APPLE-STRUCTURED-LOCATION;VALUE=URI;X-ADDRESS=Rathausweg 16\, Glottertal\
 , Deutschland;X-APPLE-RADIUS=100;X-TITLE=Musikpavillon an der Eichberghall
 e:geo:0,0
END:VEVENT
END:VCALENDAR