BEGIN:VCALENDAR
VERSION:2.0
PRODID:-//wp-events-plugin.com//7.2.3.1//EN
BEGIN:VEVENT
UID:5@trachtenkapelle-glottertal.de
DTSTART:20220708T200000Z
DTEND:20220708T210000Z
DTSTAMP:20220706T173357Z
URL:https://trachtenkapelle-glottertal.de/events/abendkonzert/
SUMMARY:Abendkonzert
DESCRIPTION:\n\n&nbsp\;\n\n&nbsp\;
CATEGORIES:Glottertäler Musikanten,Trachtengruppe
LOCATION:Musikpavillon an der Eichberghalle\, Rathausweg 16\, Glottertal\, 
 Deutschland
X-APPLE-STRUCTURED-LOCATION;VALUE=URI;X-ADDRESS=Rathausweg 16\, Glottertal\
 , Deutschland;X-APPLE-RADIUS=100;X-TITLE=Musikpavillon an der Eichberghall
 e:geo:0,0
END:VEVENT
END:VCALENDAR