BEGIN:VCALENDAR
VERSION:2.0
PRODID:-//wp-events-plugin.com//7.2.3.1//EN
BEGIN:VEVENT
UID:50@trachtenkapelle-glottertal.de
DTSTART:20230616T180000Z
DTEND:20230616T193000Z
DTSTAMP:20230222T122346Z
URL:https://trachtenkapelle-glottertal.de/events/bj-abendkonzert/
SUMMARY:BJ Abendkonzert
DESCRIPTION:
CATEGORIES:Bläserjugend
LOCATION:Musikpavillon an der Eichberghalle\, Rathausweg 16\, Glottertal\, 
 Deutschland
X-APPLE-STRUCTURED-LOCATION;VALUE=URI;X-ADDRESS=Rathausweg 16\, Glottertal\
 , Deutschland;X-APPLE-RADIUS=100;X-TITLE=Musikpavillon an der Eichberghall
 e:geo:0,0
END:VEVENT
END:VCALENDAR