BEGIN:VCALENDAR
VERSION:2.0
PRODID:-//wp-events-plugin.com//7.2.3.1//EN
BEGIN:VEVENT
UID:77@trachtenkapelle-glottertal.de
DTSTART:20231203T120000Z
DTEND:20231203T170000Z
DTSTAMP:20231116T061815Z
URL:https://trachtenkapelle-glottertal.de/events/bj-nikolausfeier/
SUMMARY:BJ Nikolausfeier
DESCRIPTION:Nikolausfeier Bläserjugend
CATEGORIES:Bläserjugend
END:VEVENT
END:VCALENDAR