BEGIN:VCALENDAR
VERSION:2.0
PRODID:-//wp-events-plugin.com//7.2.3.1//EN
BEGIN:VEVENT
UID:18@trachtenkapelle-glottertal.de
DTSTART:20221021T170000Z
DTEND:20221021T193000Z
DTSTAMP:20221001T103938Z
URL:https://trachtenkapelle-glottertal.de/events/bj-spiel-spass-spannung/
SUMMARY:BJ - Spiel\, Spaß\, Spannung
DESCRIPTION:21.10.2022\, ab 17 Uhr
CATEGORIES:Bläserjugend
END:VEVENT
END:VCALENDAR