BEGIN:VCALENDAR
VERSION:2.0
PRODID:-//wp-events-plugin.com//7.2.3.1//EN
BEGIN:VEVENT
UID:64@trachtenkapelle-glottertal.de
DTSTART:20231014T080000Z
DTEND:20231014T170000Z
DTSTAMP:20230406T194111Z
URL:https://trachtenkapelle-glottertal.de/events/bj-spiel-spass-und-spannu
 ng/
SUMMARY:BJ Spiel\,  Spaß und Spannung
DESCRIPTION:
CATEGORIES:Bläserjugend
END:VEVENT
END:VCALENDAR