BEGIN:VCALENDAR
VERSION:2.0
PRODID:-//wp-events-plugin.com//7.2.3.1//EN
BEGIN:VEVENT
UID:17@trachtenkapelle-glottertal.de
DTSTART:20221114T200000Z
DTEND:20221114T200000Z
DTSTAMP:20221021T172511Z
URL:https://trachtenkapelle-glottertal.de/events/blaeserjugend-elternabend
 /
SUMMARY:Bläserjugend - Elternabend
DESCRIPTION:Wir wollen alle Eltern der Bläserjugend nach der Coronapause z
 u einem Elternabend einladen.\nDort will die Vorstandschaft den Verein\, I
 nstrumentallehrer\, die Orchester und sich selbst vorstellen. Wir werden S
 ie zum Jahresablauf und der Tracht und Zuschüssen informieren.\n\n14. 11.
 2022\, 20 Uhr im Proberaum
CATEGORIES:Bläserjugend
END:VEVENT
END:VCALENDAR