BEGIN:VCALENDAR
VERSION:2.0
PRODID:-//wp-events-plugin.com//7.2.3.1//EN
BEGIN:VEVENT
UID:4@trachtenkapelle-glottertal.de
DTSTART:20220624T150000Z
DTEND:20220624T160000Z
DTSTAMP:20220524T223455Z
URL:https://trachtenkapelle-glottertal.de/events/einweihung-katharina-ried
 er-haus/
SUMMARY:Einweihung Katharina-Rieder-Haus
DESCRIPTION:Einweihung des Alten- und Pflegeheims
CATEGORIES:Großes Orchester
LOCATION:Katharina-Rieder-Haus\, Schurhammerweg\, Glottertal\, Deutschland
X-APPLE-STRUCTURED-LOCATION;VALUE=URI;X-ADDRESS=Schurhammerweg\, Glottertal
 \, Deutschland;X-APPLE-RADIUS=100;X-TITLE=Katharina-Rieder-Haus:geo:0,0
END:VEVENT
END:VCALENDAR