BEGIN:VCALENDAR
VERSION:2.0
PRODID:-//wp-events-plugin.com//7.2.3.1//EN
BEGIN:VEVENT
UID:43@trachtenkapelle-glottertal.de
DTSTART:20230430T080000Z
DTEND:20230430T100000Z
DTSTAMP:20230109T202234Z
URL:https://trachtenkapelle-glottertal.de/events/erstkommunion/
SUMMARY:Erstkommunion
DESCRIPTION:Abholen der Erstkommunionkinder\, Ständerle auf dem Kirchplatz
CATEGORIES:Großes Orchester
LOCATION:Pfarrkirche St. Blasius\, Kirchplatz 1\, Glottertal\, Deutschland
X-APPLE-STRUCTURED-LOCATION;VALUE=URI;X-ADDRESS=Kirchplatz 1\, Glottertal\,
  Deutschland;X-APPLE-RADIUS=100;X-TITLE=Pfarrkirche St. Blasius:geo:0,0
END:VEVENT
END:VCALENDAR