BEGIN:VCALENDAR
VERSION:2.0
PRODID:-//wp-events-plugin.com//7.2.3.1//EN
BEGIN:VEVENT
UID:38@trachtenkapelle-glottertal.de
DTSTART:20230217T170000Z
DTEND:20230217T214500Z
DTSTAMP:20230109T201100Z
URL:https://trachtenkapelle-glottertal.de/events/fasnet-im-proberaum/
SUMMARY:Fasnet im Proberaum
DESCRIPTION:ab 19:00 Uhr
CATEGORIES:Verein
LOCATION:Proberaum der Trachtenkapelle\, Rathausweg 16\, Glottertal\, Baden
 -Württemberg\, 79286\, Deutschland
X-APPLE-STRUCTURED-LOCATION;VALUE=URI;X-ADDRESS=Rathausweg 16\, Glottertal\
 , Baden-Württemberg\, 79286\, Deutschland;X-APPLE-RADIUS=100;X-TITLE=Prob
 eraum der Trachtenkapelle:geo:0,0
END:VEVENT
END:VCALENDAR