BEGIN:VCALENDAR
VERSION:2.0
PRODID:-//wp-events-plugin.com//7.2.3.1//EN
BEGIN:VEVENT
UID:34@trachtenkapelle-glottertal.de
DTSTART:20230129T121100Z
DTEND:20230129T140000Z
DTSTAMP:20230109T193744Z
URL:https://trachtenkapelle-glottertal.de/events/fasnetsumzug-waldkirch/
SUMMARY:Fasnetsumzug Waldkirch
DESCRIPTION:Jubiläumsumzug 50 Jahre Burghexen Waldkirch e. V.\n\n14:11 Uhr
CATEGORIES:Großes Orchester
END:VEVENT
END:VCALENDAR