BEGIN:VCALENDAR
VERSION:2.0
PRODID:-//wp-events-plugin.com//7.2.3.1//EN
BEGIN:VEVENT
UID:40@trachtenkapelle-glottertal.de
DTSTART:20230219T120000Z
DTEND:20230219T133000Z
DTSTAMP:20230109T201639Z
URL:https://trachtenkapelle-glottertal.de/events/fasnetumzug-glottertal/
SUMMARY:Fasnetumzug Glottertal
DESCRIPTION:ab 14:00 Uhr\n\nAufstellung: Gartenstraße
CATEGORIES:Bläserjugend,Großes Orchester
END:VEVENT
END:VCALENDAR