BEGIN:VCALENDAR
VERSION:2.0
PRODID:-//wp-events-plugin.com//7.2.3.1//EN
BEGIN:VEVENT
UID:1@trachtenkapelle-glottertal.de
DTSTART:20220612T140000Z
DTEND:20220612T170000Z
DTSTAMP:20220524T223338Z
URL:https://trachtenkapelle-glottertal.de/events/festumzug-prechtal/
SUMMARY:Festumzug Prechtal
DESCRIPTION:
CATEGORIES:Großes Orchester
END:VEVENT
END:VCALENDAR