BEGIN:VCALENDAR
VERSION:2.0
PRODID:-//wp-events-plugin.com//7.2.3.1//EN
BEGIN:VEVENT
UID:14@trachtenkapelle-glottertal.de
DTSTART:20221003T110000Z
DTEND:20221003T153000Z
DTSTAMP:20220928T203740Z
URL:https://trachtenkapelle-glottertal.de/events/feuerwehrfest-ffw-glotter
 tal/
SUMMARY:Feuerwehrfest FFw Glottertal
DESCRIPTION:Die Glottertäler Musikanten spielen ab 10 Uhr\, das Bläserjug
 end-Orchester ab 14 Uhr.\n\nFeuerwehrhaus\, Rathausweg
CATEGORIES:Bläserjugend,Glottertäler Musikanten
END:VEVENT
END:VCALENDAR