BEGIN:VCALENDAR
VERSION:2.0
PRODID:-//wp-events-plugin.com//7.2.3.1//EN
BEGIN:VEVENT
UID:44@trachtenkapelle-glottertal.de
DTSTART:20230608T054500Z
DTEND:20230608T070000Z
DTSTAMP:20230109T202422Z
URL:https://trachtenkapelle-glottertal.de/events/fronleichnamsprozession/
SUMMARY:Fronleichnamsprozession
DESCRIPTION:ab Pfarrkirche St. Blasius\, 7:45 Uhr
CATEGORIES:Großes Orchester
END:VEVENT
END:VCALENDAR