BEGIN:VCALENDAR
VERSION:2.0
PRODID:-//wp-events-plugin.com//7.2.3.1//EN
BEGIN:VEVENT
UID:58@trachtenkapelle-glottertal.de
DTSTART:20230430T080000Z
DTEND:20230430T170000Z
DTSTAMP:20230406T192546Z
URL:https://trachtenkapelle-glottertal.de/events/fruehjahrsausstellung-gae
 rtnerei-rombach-2/
SUMMARY:Frühjahrsausstellung Gärtnerei Rombach
DESCRIPTION:Bewirtung durch die Bläserjugend
CATEGORIES:Bläserjugend
END:VEVENT
END:VCALENDAR