BEGIN:VCALENDAR
VERSION:2.0
PRODID:-//wp-events-plugin.com//7.2.3.1//EN
BEGIN:VEVENT
UID:42@trachtenkapelle-glottertal.de
DTSTART:20230325T183000Z
DTEND:20230326T000000Z
DTSTAMP:20230226T174550Z
URL:https://trachtenkapelle-glottertal.de/events/fruehlingsfest-der-tracht
 enkapelle/
SUMMARY:Frühlingsfest der Trachtenkapelle
DESCRIPTION:
CATEGORIES:Verein
LOCATION:Eichberghalle Glottertal\, Rathausweg 12\, Glottertal\, Deutschlan
 d
X-APPLE-STRUCTURED-LOCATION;VALUE=URI;X-ADDRESS=Rathausweg 12\, Glottertal\
 , Deutschland;X-APPLE-RADIUS=100;X-TITLE=Eichberghalle Glottertal:geo:0,0
END:VEVENT
END:VCALENDAR