BEGIN:VCALENDAR
VERSION:2.0
PRODID:-//wp-events-plugin.com//7.2.3.1//EN
BEGIN:VEVENT
UID:12@trachtenkapelle-glottertal.de
DTSTART:20220717T121500Z
DTEND:20220717T140000Z
DTSTAMP:20220704T205818Z
URL:https://trachtenkapelle-glottertal.de/events/fruehschoppenkonzert-beim
 -sv-rot-weiss-glottertal/
SUMMARY:Konzert zur Mittagszeit beim SV Rot-Weiß Glottertal
DESCRIPTION:Es spielen die Glottertäler Musikanten (am Sportplatz)
CATEGORIES:Glottertäler Musikanten
END:VEVENT
END:VCALENDAR