BEGIN:VCALENDAR
VERSION:2.0
PRODID:-//wp-events-plugin.com//7.2.3.1//EN
BEGIN:VEVENT
UID:16@trachtenkapelle-glottertal.de
DTSTART:20221022T200000Z
DTEND:20221022T220000Z
DTSTAMP:20221001T102942Z
URL:https://trachtenkapelle-glottertal.de/events/hauptversammlung-fuer-das
 -jahr-2021/
SUMMARY:Hauptversammlung für das Jahr 2021
DESCRIPTION:am 22. Oktober 2022\, 20.00 Uhr\, im Probelokal\n(Feuerwehrhaus
 \, Rathausweg 16\, 79286 Glottertal)\n\nTagesordnung\n1. Begrüßung durch
  den Präsidenten\n2. Totengedenken\n3. Geschäftsberichte\n4. Kassenberic
 ht\n5. Kassenprüfbericht\n6. Entlastung des Kassierers\n7. Grußwort der 
 Gäste\n8. Entlastung des Gesamtvorstandes\n9. Ehrungen\n10. Ausblick auf 
 das Jahr 2022\n11. Verschiedenes\n\nHerzliche Einladung an alle Mitglieder
  und Interessierten.
CATEGORIES:Verein
END:VEVENT
END:VCALENDAR