BEGIN:VCALENDAR
VERSION:2.0
PRODID:-//wp-events-plugin.com//7.2.3.1//EN
BEGIN:VEVENT
UID:41@trachtenkapelle-glottertal.de
DTSTART:20230304T180000Z
DTEND:20230304T200000Z
DTSTAMP:20230222T121146Z
URL:https://trachtenkapelle-glottertal.de/events/hauptversammlung-fuer-das
 -jahr-2022/
SUMMARY:Hauptversammlung für das Jahr 2022
DESCRIPTION:
CATEGORIES:Verein
LOCATION:Proberaum der Trachtenkapelle\, Rathausweg 16\, Glottertal\, Baden
 -Württemberg\, 79286\, Deutschland
X-APPLE-STRUCTURED-LOCATION;VALUE=URI;X-ADDRESS=Rathausweg 16\, Glottertal\
 , Baden-Württemberg\, 79286\, Deutschland;X-APPLE-RADIUS=100;X-TITLE=Prob
 eraum der Trachtenkapelle:geo:0,0
END:VEVENT
END:VCALENDAR