BEGIN:VCALENDAR
VERSION:2.0
PRODID:-//wp-events-plugin.com//7.2.3.1//EN
BEGIN:VEVENT
UID:37@trachtenkapelle-glottertal.de
DTSTART:20230216T164500Z
DTEND:20230216T173000Z
DTSTAMP:20230109T194744Z
URL:https://trachtenkapelle-glottertal.de/events/hemdglunkerumzug/
SUMMARY:Hemdglunkerumzug
DESCRIPTION:ab 18:45 Uhr (Beginn Gasthaus Adler)
CATEGORIES:Bläserjugend,Großes Orchester
END:VEVENT
END:VCALENDAR