BEGIN:VCALENDAR
VERSION:2.0
PRODID:-//wp-events-plugin.com//7.2.3.1//EN
BEGIN:VEVENT
UID:39@trachtenkapelle-glottertal.de
DTSTART:20230218T120000Z
DTEND:20230218T123000Z
DTSTAMP:20230109T201453Z
URL:https://trachtenkapelle-glottertal.de/events/kinderfasnet/
SUMMARY:Kinderfasnet
DESCRIPTION:Kinderfasnet - Umzug\n\n14:00 Uhr
CATEGORIES:Bläserjugend
END:VEVENT
END:VCALENDAR