BEGIN:VCALENDAR
VERSION:2.0
PRODID:-//wp-events-plugin.com//7.2.3.1//EN
BEGIN:VEVENT
UID:3@trachtenkapelle-glottertal.de
DTSTART:20220616T200000Z
DTEND:20220616T210000Z
DTSTAMP:20220608T163925Z
URL:https://trachtenkapelle-glottertal.de/events/kirchenkonzert-am-herrgot
 tstag/
SUMMARY:Kirchenkonzert am Herrgottstag
DESCRIPTION:Festliches Konzert in der Pfarrkirche St. Blasius\nEintritt fre
 i - Spenden erbeten\n\nBeginn: 19:30 Uhr\n\nWir bitten Sie\, die Plätze e
 rst ab 19:30 Uhr einzunehmen\, damit wir uns noch einspielen können. Viel
 en Dank.\n\nOrgel: Pfarrer Dr. Franz Reiser\n\nProgramm_Kiko_2022_web\n\n
CATEGORIES:Großes Orchester
LOCATION:Pfarrkirche St. Blasius\, Kirchplatz 1\, Glottertal\, Deutschland
X-APPLE-STRUCTURED-LOCATION;VALUE=URI;X-ADDRESS=Kirchplatz 1\, Glottertal\,
  Deutschland;X-APPLE-RADIUS=100;X-TITLE=Pfarrkirche St. Blasius:geo:0,0
END:VEVENT
END:VCALENDAR