BEGIN:VCALENDAR
VERSION:2.0
PRODID:-//wp-events-plugin.com//7.2.3.1//EN
BEGIN:VEVENT
UID:45@trachtenkapelle-glottertal.de
DTSTART:20230608T180000Z
DTEND:20230608T200000Z
DTSTAMP:20230109T202555Z
URL:https://trachtenkapelle-glottertal.de/events/kirchenkonzert/
SUMMARY:Kirchenkonzert
DESCRIPTION:Festliches Konzert am Herrgottstag\n\nab 20:00 Uhr\, Pfarrkirch
 e St. Blasius Glottertal
CATEGORIES:Großes Orchester
LOCATION:Pfarrkirche St. Blasius\, Kirchplatz 1\, Glottertal\, Deutschland
X-APPLE-STRUCTURED-LOCATION;VALUE=URI;X-ADDRESS=Kirchplatz 1\, Glottertal\,
  Deutschland;X-APPLE-RADIUS=100;X-TITLE=Pfarrkirche St. Blasius:geo:0,0
END:VEVENT
END:VCALENDAR