BEGIN:VCALENDAR
VERSION:2.0
PRODID:-//wp-events-plugin.com//7.2.3.1//EN
BEGIN:VEVENT
UID:46@trachtenkapelle-glottertal.de
DTSTART:20230728T170000Z
DTEND:20230728T214500Z
DTSTAMP:20230720T200506Z
URL:https://trachtenkapelle-glottertal.de/events/musik-hock-und-schleppert
 reffen/
SUMMARY:Musik-Hock und Schleppertreffen
DESCRIPTION:\nhttps://schleppertreffen-glottertal.de
ATTACH;FMTTYPE=image/jpeg:https://trachtenkapelle-glottertal.de/wp-content
 /uploads/2023/06/Hock-Flyer-2023-A6.jpg
CATEGORIES:Verein
END:VEVENT
END:VCALENDAR