BEGIN:VCALENDAR
VERSION:2.0
PRODID:-//wp-events-plugin.com//7.2.3.1//EN
BEGIN:VEVENT
UID:56@trachtenkapelle-glottertal.de
DTSTART:20230514T074500Z
DTEND:20230514T083000Z
DTSTAMP:20230222T123716Z
URL:https://trachtenkapelle-glottertal.de/events/muttertagskonzert/
SUMMARY:Muttertagskonzert
DESCRIPTION:
CATEGORIES:Bläserjugend
LOCATION:Pfarrkirche St. Blasius\, Kirchplatz 1\, Glottertal\, Deutschland
X-APPLE-STRUCTURED-LOCATION;VALUE=URI;X-ADDRESS=Kirchplatz 1\, Glottertal\,
  Deutschland;X-APPLE-RADIUS=100;X-TITLE=Pfarrkirche St. Blasius:geo:0,0
END:VEVENT
END:VCALENDAR