BEGIN:VCALENDAR
VERSION:2.0
PRODID:-//wp-events-plugin.com//7.2.3.1//EN
BEGIN:VEVENT
UID:15@trachtenkapelle-glottertal.de
DTSTART:20221009T133000Z
DTEND:20221009T153000Z
DTSTAMP:20220928T204504Z
URL:https://trachtenkapelle-glottertal.de/events/oktoberbierfest/
SUMMARY:Oktoberbierfest
DESCRIPTION:Bürgerhaus am Seepark\, Freiburg\n\nAb 13:30 Uhr spielen unser
 e Glottertäler Musikanten.\n\nVeranstalter: Orchestergemeinschaft Seepark
 \n\n&nbsp\;
CATEGORIES:Glottertäler Musikanten
LOCATION:https://www.google.com/maps/place/B%C3%BCrgerhaus+Seepark,+Gerhart
 -Hauptmann-Stra%C3%9Fe+1,+79110+Freiburg+im+Breisgau/@48.0126662,7.8142716
 ,17z/data=!4m5!3m4!1s0x47911b083e82c277:0x3e4232a988b4498b!8m2!3d48.012666
 2!4d7.8142716
END:VEVENT
END:VCALENDAR