BEGIN:VCALENDAR
VERSION:2.0
PRODID:-//wp-events-plugin.com//7.2.3.1//EN
BEGIN:VEVENT
UID:35@trachtenkapelle-glottertal.de
DTSTART:20230205T083000Z
DTEND:20230205T100000Z
DTSTAMP:20230109T194328Z
URL:https://trachtenkapelle-glottertal.de/events/patrozinium-mit-kirchgang
 -der-vereine/
SUMMARY:Patrozinium mit Kirchgang der Vereine
DESCRIPTION:St. Blasius Glottertal\, 10:30 Uhr\n\nTreffpunkt Kirchgang der 
 Verine\, Rathaus\, 10:15 Uhr
CATEGORIES:Großes Orchester
LOCATION:Pfarrkirche St. Blasius\, Kirchplatz 1\, Glottertal\, Deutschland
X-APPLE-STRUCTURED-LOCATION;VALUE=URI;X-ADDRESS=Kirchplatz 1\, Glottertal\,
  Deutschland;X-APPLE-RADIUS=100;X-TITLE=Pfarrkirche St. Blasius:geo:0,0
END:VEVENT
END:VCALENDAR