BEGIN:VCALENDAR
VERSION:2.0
PRODID:-//wp-events-plugin.com//7.2.3.1//EN
BEGIN:VEVENT
UID:13@trachtenkapelle-glottertal.de
DTSTART:20220911T000000Z
DTEND:20220911T000000Z
DTSTAMP:20220704T210500Z
URL:https://trachtenkapelle-glottertal.de/events/pfarrfest/
SUMMARY:Pfarrfest
DESCRIPTION:Pfarrfest rund um den Severin
CATEGORIES:Glottertäler Musikanten
LOCATION:Pfarrkirche St. Blasius\, Kirchplatz 1\, Glottertal\, Deutschland
X-APPLE-STRUCTURED-LOCATION;VALUE=URI;X-ADDRESS=Kirchplatz 1\, Glottertal\,
  Deutschland;X-APPLE-RADIUS=100;X-TITLE=Pfarrkirche St. Blasius:geo:0,0
END:VEVENT
END:VCALENDAR