BEGIN:VCALENDAR
VERSION:2.0
PRODID:-//wp-events-plugin.com//7.2.3.1//EN
BEGIN:VEVENT
UID:7@trachtenkapelle-glottertal.de
DTSTART:20220723T200000Z
DTEND:20220723T213000Z
DTSTAMP:20220706T173433Z
URL:https://trachtenkapelle-glottertal.de/events/sommerkonzert/
SUMMARY:Sommerkonzert
DESCRIPTION:\n\nWir spannen einen Bogen von der Polka zu Queen.
CATEGORIES:Großes Orchester
LOCATION:Musikpavillon an der Eichberghalle\, Rathausweg 16\, Glottertal\, 
 Deutschland
X-APPLE-STRUCTURED-LOCATION;VALUE=URI;X-ADDRESS=Rathausweg 16\, Glottertal\
 , Deutschland;X-APPLE-RADIUS=100;X-TITLE=Musikpavillon an der Eichberghall
 e:geo:0,0
END:VEVENT
END:VCALENDAR