BEGIN:VCALENDAR
VERSION:2.0
PRODID:-//wp-events-plugin.com//7.2.3.1//EN
BEGIN:VEVENT
UID:32@trachtenkapelle-glottertal.de
DTSTART:20221111T153000Z
DTEND:20221111T170000Z
DTSTAMP:20221101T094658Z
URL:https://trachtenkapelle-glottertal.de/events/st-martin-umzug/
SUMMARY:St. Martin - Umzug
DESCRIPTION:Die Bläserjugend begleitet den Martinsumzug im Glottertal.\n\n
 17:30 Uhr \, Kirchplatz
CATEGORIES:Bläserjugend
END:VEVENT
END:VCALENDAR