BEGIN:VCALENDAR
VERSION:2.0
PRODID:-//wp-events-plugin.com//7.2.3.1//EN
BEGIN:VEVENT
UID:65@trachtenkapelle-glottertal.de
DTSTART:20231113T153000Z
DTEND:20231113T170000Z
DTSTAMP:20231029T160645Z
URL:https://trachtenkapelle-glottertal.de/events/st-martinsumzug/
SUMMARY:St. Martinsumzug
DESCRIPTION:Umzug ab ca. 17:30 Uhr ab der Pfarrkirche St. Blasius bis zur S
 churhammerschule.\n\nVorher ab 17 Uhr Feier in der Kirche oder für Kleink
 inder Im Severin.\n\nMusikalische Begleitung durch das Vorstufenorchester\
 , verstärkt durch Bläserjugendorchester.
CATEGORIES:Bläserjugend,Vorstufenorchester
END:VEVENT
END:VCALENDAR