BEGIN:VCALENDAR
VERSION:2.0
PRODID:-//wp-events-plugin.com//7.2.3.1//EN
BEGIN:VEVENT
UID:66@trachtenkapelle-glottertal.de
DTSTART:20231119T064500Z
DTEND:20231119T084500Z
DTSTAMP:20231118T165819Z
URL:https://trachtenkapelle-glottertal.de/events/volkstrauertag/
SUMMARY:Volkstrauertag
DESCRIPTION:Kirchgang der Vereine (9 Uhr)
CATEGORIES:Großes Orchester
LOCATION:Pfarrkirche St. Blasius\, Kirchplatz 1\, Glottertal\, Deutschland
X-APPLE-STRUCTURED-LOCATION;VALUE=URI;X-ADDRESS=Kirchplatz 1\, Glottertal\,
  Deutschland;X-APPLE-RADIUS=100;X-TITLE=Pfarrkirche St. Blasius:geo:0,0
END:VEVENT
END:VCALENDAR