BEGIN:VCALENDAR
VERSION:2.0
PRODID:-//wp-events-plugin.com//7.2.3.1//EN
BEGIN:VEVENT
UID:62@trachtenkapelle-glottertal.de
DTSTART:20230723T120000Z
DTEND:20230723T140000Z
DTSTAMP:20230617T194951Z
URL:https://trachtenkapelle-glottertal.de/events/waldmeister-gremmelsbach/
SUMMARY:Waldfest Gremmelsbach
DESCRIPTION:Die Glottertäler Musikanten spielen auswärts
CATEGORIES:Glottertäler Musikanten
END:VEVENT
END:VCALENDAR